BEGIN:VCALENDAR
VERSION:2.0
PRODID:-//Desert International Horse Park - ECPv6.15.20//NONSGML v1.0//EN
CALSCALE:GREGORIAN
METHOD:PUBLISH
X-ORIGINAL-URL:https://deserthorsepark.com
X-WR-CALDESC:Events for Desert International Horse Park
REFRESH-INTERVAL;VALUE=DURATION:PT1H
X-Robots-Tag:noindex
X-PUBLISHED-TTL:PT1H
BEGIN:VTIMEZONE
TZID:America/Los_Angeles
BEGIN:DAYLIGHT
TZOFFSETFROM:-0800
TZOFFSETTO:-0700
TZNAME:PDT
DTSTART:20230312T100000
END:DAYLIGHT
BEGIN:STANDARD
TZOFFSETFROM:-0700
TZOFFSETTO:-0800
TZNAME:PST
DTSTART:20231105T090000
END:STANDARD
BEGIN:DAYLIGHT
TZOFFSETFROM:-0800
TZOFFSETTO:-0700
TZNAME:PDT
DTSTART:20240310T100000
END:DAYLIGHT
BEGIN:STANDARD
TZOFFSETFROM:-0700
TZOFFSETTO:-0800
TZNAME:PST
DTSTART:20241103T090000
END:STANDARD
BEGIN:DAYLIGHT
TZOFFSETFROM:-0800
TZOFFSETTO:-0700
TZNAME:PDT
DTSTART:20250309T100000
END:DAYLIGHT
BEGIN:STANDARD
TZOFFSETFROM:-0700
TZOFFSETTO:-0800
TZNAME:PST
DTSTART:20251102T090000
END:STANDARD
BEGIN:DAYLIGHT
TZOFFSETFROM:-0800
TZOFFSETTO:-0700
TZNAME:PDT
DTSTART:20260308T100000
END:DAYLIGHT
BEGIN:STANDARD
TZOFFSETFROM:-0700
TZOFFSETTO:-0800
TZNAME:PST
DTSTART:20261101T090000
END:STANDARD
BEGIN:DAYLIGHT
TZOFFSETFROM:-0800
TZOFFSETTO:-0700
TZNAME:PDT
DTSTART:20270314T100000
END:DAYLIGHT
BEGIN:STANDARD
TZOFFSETFROM:-0700
TZOFFSETTO:-0800
TZNAME:PST
DTSTART:20271107T090000
END:STANDARD
END:VTIMEZONE
BEGIN:VEVENT
DTSTART;TZID=America/Los_Angeles:20260301T110000
DTEND;TZID=America/Los_Angeles:20260301T140000
DTSTAMP:20260422T035857
CREATED:20240930T190320Z
LAST-MODIFIED:20260217T232834Z
UID:10000212-1772362800-1772373600@deserthorsepark.com
SUMMARY:DIHP Pet Adoption Day Sponsored by Platinum Performance Canine
DESCRIPTION:
URL:https://deserthorsepark.com/event/dihp-pet-adoption-day-sponsored-by-platinum-performance-canine/2026-03-01/
LOCATION:Vendor Row
CATEGORIES:DC,DC 2,DC 8,DH,DH2,NSS,NSS 2
ATTACH;FMTTYPE=image/jpeg:https://deserthorsepark.com/wp-content/uploads/2024/09/Sun-Mar-10-7871Puppies-Puppy-Thrive-Animal-Rescue-e1727722990628.jpg
END:VEVENT
BEGIN:VEVENT
DTSTART;TZID=America/Los_Angeles:20260118T110000
DTEND;TZID=America/Los_Angeles:20260118T140000
DTSTAMP:20260422T035857
CREATED:20240930T190320Z
LAST-MODIFIED:20260217T232834Z
UID:10000211-1768734000-1768744800@deserthorsepark.com
SUMMARY:DIHP Pet Adoption Day Sponsored by Platinum Performance Canine
DESCRIPTION:
URL:https://deserthorsepark.com/event/dihp-pet-adoption-day-sponsored-by-platinum-performance-canine/2026-01-18/
LOCATION:Vendor Row
CATEGORIES:DC,DC 2,DC 8,DH,DH2,NSS,NSS 2
ATTACH;FMTTYPE=image/jpeg:https://deserthorsepark.com/wp-content/uploads/2024/09/Sun-Mar-10-7871Puppies-Puppy-Thrive-Animal-Rescue-e1727722990628.jpg
END:VEVENT
BEGIN:VEVENT
DTSTART;TZID=America/Los_Angeles:20251214T110000
DTEND;TZID=America/Los_Angeles:20251214T140000
DTSTAMP:20260422T035857
CREATED:20241201T154718Z
LAST-MODIFIED:20251003T171648Z
UID:10000049-1765710000-1765720800@deserthorsepark.com
SUMMARY:Paws & Claus for a Cause - Holiday Pet Portrait Fundraiser
DESCRIPTION:
URL:https://deserthorsepark.com/event/paws-claus-for-a-cause/
LOCATION:Vendor Row
CATEGORIES:DH,DH2
ATTACH;FMTTYPE=image/jpeg:https://deserthorsepark.com/wp-content/uploads/2024/12/SCTY5107-e1759509370592.jpg
END:VEVENT
BEGIN:VEVENT
DTSTART;TZID=America/Los_Angeles:20251214T110000
DTEND;TZID=America/Los_Angeles:20251214T140000
DTSTAMP:20260422T035857
CREATED:20240930T190320Z
LAST-MODIFIED:20260217T232834Z
UID:10000210-1765710000-1765720800@deserthorsepark.com
SUMMARY:DIHP Pet Adoption Day Sponsored by Platinum Performance Canine
DESCRIPTION:
URL:https://deserthorsepark.com/event/dihp-pet-adoption-day-sponsored-by-platinum-performance-canine/2025-12-14/
LOCATION:Vendor Row
CATEGORIES:DC,DC 2,DC 8,DH,DH2,NSS,NSS 2
ATTACH;FMTTYPE=image/jpeg:https://deserthorsepark.com/wp-content/uploads/2024/09/Sun-Mar-10-7871Puppies-Puppy-Thrive-Animal-Rescue-e1727722990628.jpg
END:VEVENT
BEGIN:VEVENT
DTSTART;TZID=America/Los_Angeles:20251109T110000
DTEND;TZID=America/Los_Angeles:20251109T140000
DTSTAMP:20260422T035857
CREATED:20240930T190320Z
LAST-MODIFIED:20260217T232834Z
UID:10000029-1762686000-1762696800@deserthorsepark.com
SUMMARY:DIHP Pet Adoption Day Sponsored by Platinum Performance Canine
DESCRIPTION:
URL:https://deserthorsepark.com/event/dihp-pet-adoption-day-sponsored-by-platinum-performance-canine/2025-11-09/
LOCATION:Vendor Row
CATEGORIES:DC,DC 2,DC 8,DH,DH2,NSS,NSS 2
ATTACH;FMTTYPE=image/jpeg:https://deserthorsepark.com/wp-content/uploads/2024/09/Sun-Mar-10-7871Puppies-Puppy-Thrive-Animal-Rescue-e1727722990628.jpg
END:VEVENT
BEGIN:VEVENT
DTSTART;TZID=America/Los_Angeles:20250302T110000
DTEND;TZID=America/Los_Angeles:20250302T140000
DTSTAMP:20260422T035857
CREATED:20240911T185007Z
LAST-MODIFIED:20250115T192413Z
UID:10000008-1740913200-1740924000@deserthorsepark.com
SUMMARY:DIHP Pet Adoption Day Sponsored By Platinum Performance Canine
DESCRIPTION:Test
URL:https://deserthorsepark.com/event/thrive-animal-rescue-adoption/
LOCATION:Vendor Row
CATEGORIES:DC,DC 8
ATTACH;FMTTYPE=image/jpeg:https://deserthorsepark.com/wp-content/uploads/2024/03/Sun-Mar-10-7776Puppies-Puppy-Thrive-Animal-Rescue-e1726158441348.jpg
ORGANIZER;CN="Desert Horse Park":MAILTO:events@deserthorsepark.com
END:VEVENT
BEGIN:VEVENT
DTSTART;TZID=America/Los_Angeles:20250222T140000
DTEND;TZID=America/Los_Angeles:20250222T160000
DTSTAMP:20260422T035857
CREATED:20250116T155946Z
LAST-MODIFIED:20250116T182022Z
UID:10000116-1740232800-1740240000@deserthorsepark.com
SUMMARY:Pony Coloring Party
DESCRIPTION:
URL:https://deserthorsepark.com/event/pony-coloring-party/
LOCATION:Vendor Row
CATEGORIES:DC,DC 7
ATTACH;FMTTYPE=image/png:https://deserthorsepark.com/wp-content/uploads/2025/01/Coloring-Party.png
END:VEVENT
BEGIN:VEVENT
DTSTART;TZID=America/Los_Angeles:20250214T140000
DTEND;TZID=America/Los_Angeles:20250214T160000
DTSTAMP:20260422T035857
CREATED:20250114T200615Z
LAST-MODIFIED:20250114T223104Z
UID:10000101-1739541600-1739548800@deserthorsepark.com
SUMMARY:Valentine's Day Cookie Decorating Party
DESCRIPTION:
URL:https://deserthorsepark.com/event/valentines-day-cookie-decorating-party/
LOCATION:Vendor Row
CATEGORIES:DC,DC 6
ATTACH;FMTTYPE=image/jpeg:https://deserthorsepark.com/wp-content/uploads/2025/01/Cookie-decorating-by-RandolphPR-3-scaled-e1736887032459.jpg
ORGANIZER;CN="Desert Horse Park":MAILTO:events@deserthorsepark.com
END:VEVENT
BEGIN:VEVENT
DTSTART;TZID=America/Los_Angeles:20250213T183000
DTEND;TZID=America/Los_Angeles:20250213T200000
DTSTAMP:20260422T035857
CREATED:20250201T171219Z
LAST-MODIFIED:20250201T171219Z
UID:10000135-1739471400-1739476800@deserthorsepark.com
SUMMARY:Tack Warehouse Pawject Runway
DESCRIPTION:
URL:https://deserthorsepark.com/event/tack-warehouse-pawject-runway/
LOCATION:Vendor Row
CATEGORIES:DC,DC 6
ATTACH;FMTTYPE=image/jpeg:https://deserthorsepark.com/wp-content/uploads/2025/02/PAWject-Runway-fundraiser-Fb-e1738429864142.jpeg
END:VEVENT
BEGIN:VEVENT
DTSTART;TZID=America/Los_Angeles:20250124T140000
DTEND;TZID=America/Los_Angeles:20250124T170000
DTSTAMP:20260422T035857
CREATED:20250108T164129Z
LAST-MODIFIED:20250109T170523Z
UID:10000066-1737727200-1737738000@deserthorsepark.com
SUMMARY:Sip N Shop with AWHC at the Jenni Kayne Pop Up
DESCRIPTION:
URL:https://deserthorsepark.com/event/sip-n-shop-with-awhc-at-the-jenni-kayne-pop-up/
LOCATION:Vendor Row
CATEGORIES:DC,DC 3
ATTACH;FMTTYPE=image/jpeg:https://deserthorsepark.com/wp-content/uploads/2025/01/Sun-Jan-28-9030AWHC-Jenni-Kayne-e1736354943260.jpg
END:VEVENT
BEGIN:VEVENT
DTSTART;TZID=America/Los_Angeles:20250119T110000
DTEND;TZID=America/Los_Angeles:20250119T140000
DTSTAMP:20260422T035857
CREATED:20241223T164140Z
LAST-MODIFIED:20260217T232534Z
UID:10000057-1737284400-1737295200@deserthorsepark.com
SUMMARY:DIHP Pet Adoption Day Sponsored By Platinum Performance Canine
DESCRIPTION:
URL:https://deserthorsepark.com/event/dihp-pet-adoption-day-sponsored-by-platinum-performance-canine-2/
LOCATION:Vendor Row
CATEGORIES:DC,DC 2,DC 8
ATTACH;FMTTYPE=image/jpeg:https://deserthorsepark.com/wp-content/uploads/2024/09/Sun-Mar-10-7871Puppies-Puppy-Thrive-Animal-Rescue-e1727722990628.jpg
END:VEVENT
BEGIN:VEVENT
DTSTART;TZID=America/Los_Angeles:20241109T153000
DTEND;TZID=America/Los_Angeles:20241109T173000
DTSTAMP:20260422T035857
CREATED:20240912T204623Z
LAST-MODIFIED:20240924T153203Z
UID:10000020-1731166200-1731173400@deserthorsepark.com
SUMMARY:S'Mores Code Book Signing with Marian Ehlers
DESCRIPTION:
URL:https://deserthorsepark.com/event/smores-code-book-signing-with-marian-ehlers/
LOCATION:Vendor Row
CATEGORIES:NSS,NSS 2
ATTACH;FMTTYPE=image/jpeg:https://deserthorsepark.com/wp-content/uploads/2024/09/HC-Book-Signing-Photo-Mare-scaled-e1727191911300.jpg
ORGANIZER;CN="Desert Horse Park":MAILTO:events@deserthorsepark.com
END:VEVENT
END:VCALENDAR