BEGIN:VCALENDAR
VERSION:2.0
PRODID:-//Desert International Horse Park - ECPv6.15.20//NONSGML v1.0//EN
CALSCALE:GREGORIAN
METHOD:PUBLISH
X-WR-CALNAME:Desert International Horse Park
X-ORIGINAL-URL:https://deserthorsepark.com
X-WR-CALDESC:Events for Desert International Horse Park
REFRESH-INTERVAL;VALUE=DURATION:PT1H
X-Robots-Tag:noindex
X-PUBLISHED-TTL:PT1H
BEGIN:VTIMEZONE
TZID:America/Los_Angeles
BEGIN:DAYLIGHT
TZOFFSETFROM:-0800
TZOFFSETTO:-0700
TZNAME:PDT
DTSTART:20240310T100000
END:DAYLIGHT
BEGIN:STANDARD
TZOFFSETFROM:-0700
TZOFFSETTO:-0800
TZNAME:PST
DTSTART:20241103T090000
END:STANDARD
BEGIN:DAYLIGHT
TZOFFSETFROM:-0800
TZOFFSETTO:-0700
TZNAME:PDT
DTSTART:20250309T100000
END:DAYLIGHT
BEGIN:STANDARD
TZOFFSETFROM:-0700
TZOFFSETTO:-0800
TZNAME:PST
DTSTART:20251102T090000
END:STANDARD
BEGIN:DAYLIGHT
TZOFFSETFROM:-0800
TZOFFSETTO:-0700
TZNAME:PDT
DTSTART:20260308T100000
END:DAYLIGHT
BEGIN:STANDARD
TZOFFSETFROM:-0700
TZOFFSETTO:-0800
TZNAME:PST
DTSTART:20261101T090000
END:STANDARD
BEGIN:DAYLIGHT
TZOFFSETFROM:-0800
TZOFFSETTO:-0700
TZNAME:PDT
DTSTART:20270314T100000
END:DAYLIGHT
BEGIN:STANDARD
TZOFFSETFROM:-0700
TZOFFSETTO:-0800
TZNAME:PST
DTSTART:20271107T090000
END:STANDARD
END:VTIMEZONE
BEGIN:VEVENT
DTSTART;TZID=America/Los_Angeles:20260328T190000
DTEND;TZID=America/Los_Angeles:20260328T210000
DTSTAMP:20260423T134518
CREATED:20260317T145558Z
LAST-MODIFIED:20260317T170527Z
UID:10000272-1774724400-1774731600@deserthorsepark.com
SUMMARY:$10\,000 Gamblers Choice 1.10-1.15m Sponsored by Spotlight 29
DESCRIPTION:
URL:https://deserthorsepark.com/event/10000-gamblers-choice-1-10-1-15m/
LOCATION:Grand Prix Arena
ATTACH;FMTTYPE=image/jpeg:https://deserthorsepark.com/wp-content/uploads/2026/03/20250222_MGM_DC7_166-e1773759346236.jpg
END:VEVENT
BEGIN:VEVENT
DTSTART;TZID=America/Los_Angeles:20260327T190000
DTEND;TZID=America/Los_Angeles:20260327T210000
DTSTAMP:20260423T134518
CREATED:20260317T145923Z
LAST-MODIFIED:20260317T170355Z
UID:10000273-1774638000-1774645200@deserthorsepark.com
SUMMARY:$75\,000 Grand Prix Sponsored by Platinum Performance
DESCRIPTION:
URL:https://deserthorsepark.com/event/75000-grand-prix/
LOCATION:Grand Prix Arena
ATTACH;FMTTYPE=image/jpeg:https://deserthorsepark.com/wp-content/uploads/2026/03/Conor-Swail-Platinum-Performance-Theo-160-e1773759841319.jpg
END:VEVENT
BEGIN:VEVENT
DTSTART;TZID=America/Los_Angeles:20260321T190000
DTEND;TZID=America/Los_Angeles:20260321T210000
DTSTAMP:20260423T134518
CREATED:20260317T145213Z
LAST-MODIFIED:20260317T145213Z
UID:10000271-1774119600-1774126800@deserthorsepark.com
SUMMARY:$75\,000 Grand Prix Sponsored by C3RV
DESCRIPTION:
URL:https://deserthorsepark.com/event/75000-grand-prix-sponsored-by-c3rv/
LOCATION:Grand Prix Arena
ATTACH;FMTTYPE=image/jpeg:https://deserthorsepark.com/wp-content/uploads/2026/03/260124_DC3_MG_0154-scaled-e1773759121524.jpg
END:VEVENT
BEGIN:VEVENT
DTSTART;TZID=America/Los_Angeles:20260314T190000
DTEND;TZID=America/Los_Angeles:20260314T210000
DTSTAMP:20260423T134518
CREATED:20250116T203339Z
LAST-MODIFIED:20260310T180158Z
UID:10000128-1773514800-1773522000@deserthorsepark.com
SUMMARY:$225\,000 FEI 4* 1.55m Grand Prix Sponsored by Kask & Vogel
DESCRIPTION:
URL:https://deserthorsepark.com/event/200000-fei-4-1-55m-grand-prix-sponsored-by-kask-vogel/
LOCATION:Grand Prix Arena
CATEGORIES:DC,DC 10
ATTACH;FMTTYPE=image/jpeg:https://deserthorsepark.com/wp-content/uploads/2025/01/Sun-Mar-3-5808Kask-Katie-Laurie-Vogel-e1737059607952.jpg
END:VEVENT
BEGIN:VEVENT
DTSTART;TZID=America/Los_Angeles:20260314T170000
DTEND;TZID=America/Los_Angeles:20260314T180000
DTSTAMP:20260423T134518
CREATED:20250116T203723Z
LAST-MODIFIED:20251217T225926Z
UID:10000129-1773507600-1773511200@deserthorsepark.com
SUMMARY:$20\,000 Grooms Class
DESCRIPTION:
URL:https://deserthorsepark.com/event/20000-grooms-class-sponsored-by-sandhaven-farm/
LOCATION:Grand Prix Arena
CATEGORIES:DC,DC 10
ATTACH;FMTTYPE=image/jpeg:https://deserthorsepark.com/wp-content/uploads/2024/10/MG1188GroomsClass-Sandhaven-scaled-e1727798525346.jpg
END:VEVENT
BEGIN:VEVENT
DTSTART;TZID=America/Los_Angeles:20260313T190000
DTEND;TZID=America/Los_Angeles:20260313T200000
DTSTAMP:20260423T134518
CREATED:20250116T201814Z
LAST-MODIFIED:20260310T175838Z
UID:10000127-1773428400-1773432000@deserthorsepark.com
SUMMARY:$150\,000 DIHP WCHR West Coast Hunter Spectacular Championship
DESCRIPTION:
URL:https://deserthorsepark.com/event/100000-dihp-wchr-west-coast-hunter-spectacular-sponsored-by-irene-neuwirth/
LOCATION:Grand Prix Arena
CATEGORIES:DC,DC 10
ATTACH;FMTTYPE=image/jpeg:https://deserthorsepark.com/wp-content/uploads/2025/01/MG1140NickHaness-WCHR-WCHRSpectacular-scaled-e1737058684123.jpg
END:VEVENT
BEGIN:VEVENT
DTSTART;TZID=America/Los_Angeles:20260307T180000
DTEND;TZID=America/Los_Angeles:20260307T200000
DTSTAMP:20260423T134518
CREATED:20250116T164448Z
LAST-MODIFIED:20251217T224358Z
UID:10000118-1772906400-1772913600@deserthorsepark.com
SUMMARY:R.W. Mutch Championship Sponsored by Butet
DESCRIPTION:
URL:https://deserthorsepark.com/event/r-w-mutch-championship-sponsored-by-butet/
LOCATION:Grand Prix Arena
CATEGORIES:DC,DC 9
ATTACH;FMTTYPE=image/jpeg:https://deserthorsepark.com/wp-content/uploads/2025/01/Sat-Mar-9-7559Equtiation-R.W.-Mutch-e1737045875424.jpg
END:VEVENT
BEGIN:VEVENT
DTSTART;TZID=America/Los_Angeles:20260307T103000
DTEND;TZID=America/Los_Angeles:20260307T123000
DTSTAMP:20260423T134518
CREATED:20250116T164854Z
LAST-MODIFIED:20260307T154954Z
UID:10000119-1772879400-1772886600@deserthorsepark.com
SUMMARY:$117\,000 FEI 3* 1.50m Grand Prix Sponsored by Marshall & Sterling
DESCRIPTION:
URL:https://deserthorsepark.com/event/117000-fei-3-1-50m-grand-prix-sponsored-by-marshall-sterling/
LOCATION:Grand Prix Arena
CATEGORIES:DC,DC 9
ATTACH;FMTTYPE=image/jpeg:https://deserthorsepark.com/wp-content/uploads/2025/01/MG1220CassioRivetti-MarshallSterling-scaled-e1737046118847.jpg
END:VEVENT
BEGIN:VEVENT
DTSTART;TZID=America/Los_Angeles:20260306T180000
DTEND;TZID=America/Los_Angeles:20260306T200000
DTSTAMP:20260423T134518
CREATED:20251217T225126Z
LAST-MODIFIED:20251217T225126Z
UID:10000232-1772820000-1772827200@deserthorsepark.com
SUMMARY:$25\,000 Open Classic 1.45m Sponsored by FarmVet
DESCRIPTION:
URL:https://deserthorsepark.com/event/25000-open-classic-1-45m-sponsored-by-farmvet/
LOCATION:Grand Prix Arena
CATEGORIES:DC,DC 9
END:VEVENT
BEGIN:VEVENT
DTSTART;TZID=America/Los_Angeles:20260228T180000
DTEND;TZID=America/Los_Angeles:20260228T200000
DTSTAMP:20260423T134518
CREATED:20250115T200821Z
LAST-MODIFIED:20251217T223904Z
UID:10000115-1772301600-1772308800@deserthorsepark.com
SUMMARY:$75\,000 Grand Prix Sponsored by Adequan
DESCRIPTION:
URL:https://deserthorsepark.com/event/75000-grand-prix-sponsored-by-adequan/
LOCATION:Grand Prix Arena
CATEGORIES:DC,DC 8
ATTACH;FMTTYPE=image/jpeg:https://deserthorsepark.com/wp-content/uploads/2025/01/MG1156Adequan-KentFarrington-scaled-e1736971691421.jpg
END:VEVENT
BEGIN:VEVENT
DTSTART;TZID=America/Los_Angeles:20260227T180000
DTEND;TZID=America/Los_Angeles:20260227T200000
DTSTAMP:20260423T134518
CREATED:20250115T195801Z
LAST-MODIFIED:20251217T223656Z
UID:10000114-1772215200-1772222400@deserthorsepark.com
SUMMARY:$100\,000 Pro Eq Challenge Championship Round
DESCRIPTION:
URL:https://deserthorsepark.com/event/100000-pro-eq-challenge/
LOCATION:Grand Prix Arena
CATEGORIES:DC,DC 8
ATTACH;FMTTYPE=image/jpeg:https://deserthorsepark.com/wp-content/uploads/2025/01/CWD-Nick-Haness-Pro-Eq-Challenge-Venti-e1736971071859.jpg
END:VEVENT
BEGIN:VEVENT
DTSTART;TZID=America/Los_Angeles:20260221T180000
DTEND;TZID=America/Los_Angeles:20260221T200000
DTSTAMP:20260423T134518
CREATED:20250108T170722Z
LAST-MODIFIED:20251217T231844Z
UID:10000233-1771696800-1771704000@deserthorsepark.com
SUMMARY:$10\,000 DIHP 10 & Under Futurity 1.35m
DESCRIPTION:
URL:https://deserthorsepark.com/event/10000-interactive-mortgage-1-35m-10-under-futurity/2026-02-21/
LOCATION:Grand Prix Arena
CATEGORIES:DC,DC 3
ATTACH;FMTTYPE=image/jpeg:https://deserthorsepark.com/wp-content/uploads/2025/01/JAMIE-SAILOR_ARAGUCCHI_DCM13127-scaled-e1765569651692.jpg
END:VEVENT
BEGIN:VEVENT
DTSTART;TZID=America/Los_Angeles:20260221T130000
DTEND;TZID=America/Los_Angeles:20260221T150000
DTSTAMP:20260423T134518
CREATED:20250301T030629Z
LAST-MODIFIED:20260218T192539Z
UID:10000144-1771678800-1771686000@deserthorsepark.com
SUMMARY:$20\,000 MeadowGrove & Friends #weridetogether 1.20m Classic
DESCRIPTION:
URL:https://deserthorsepark.com/event/20000-meadowgrove-friends-1-20m-classic/
LOCATION:Grand Prix Arena
CATEGORIES:DC,DC 9
ATTACH;FMTTYPE=image/jpeg:https://deserthorsepark.com/wp-content/uploads/2025/02/Sun-Mar-12-2704MeadowGrove-WeRideTogether-e1740798357380.jpg
END:VEVENT
BEGIN:VEVENT
DTSTART;TZID=America/Los_Angeles:20260214T180000
DTEND;TZID=America/Los_Angeles:20260214T200000
DTSTAMP:20260423T134518
CREATED:20250111T171440Z
LAST-MODIFIED:20251217T222134Z
UID:10000095-1771092000-1771099200@deserthorsepark.com
SUMMARY:$117\,000 FEI 3* 1.50m Grand Prix Sponsored By Premier Equestrian
DESCRIPTION:
URL:https://deserthorsepark.com/event/117000-fei-3-1-50m-grand-prix-sponsored-by-premier-equestrian/
LOCATION:Grand Prix Arena
CATEGORIES:DC,DC 6
ATTACH;FMTTYPE=image/jpeg:https://deserthorsepark.com/wp-content/uploads/2025/01/Sat-Feb-10-1192Lane-Clarke-Premier-Equestrian-Venom-e1766010079941.jpg
END:VEVENT
BEGIN:VEVENT
DTSTART;TZID=America/Los_Angeles:20260213T180000
DTEND;TZID=America/Los_Angeles:20260213T200000
DTSTAMP:20260423T134518
CREATED:20251217T232323Z
LAST-MODIFIED:20260105T211824Z
UID:10000234-1771005600-1771012800@deserthorsepark.com
SUMMARY:$10\,000 1.25m Junior/Amateur Challenge
DESCRIPTION:
URL:https://deserthorsepark.com/event/10000-1-25m-junior-amateur-challenge/
LOCATION:Grand Prix Arena
CATEGORIES:DC,DC 6
ATTACH;FMTTYPE=image/jpeg:https://deserthorsepark.com/wp-content/uploads/2025/12/ANNA-LE-GRIX_CALYGRA_MFA1134-1-scaled-e1767647886613.jpg
END:VEVENT
BEGIN:VEVENT
DTSTART;TZID=America/Los_Angeles:20260207T180000
DTEND;TZID=America/Los_Angeles:20260207T200000
DTSTAMP:20260423T134518
CREATED:20250110T175256Z
LAST-MODIFIED:20251217T220916Z
UID:10000090-1770487200-1770494400@deserthorsepark.com
SUMMARY:$20\,000 Winners Circle Hunter Stake Sponsored by Frank & Eileen
DESCRIPTION:
URL:https://deserthorsepark.com/event/20000-winners-circle-hunter-stake/
LOCATION:Grand Prix Arena
CATEGORIES:DC,DC 5
ATTACH;FMTTYPE=image/jpeg:https://deserthorsepark.com/wp-content/uploads/2025/01/MG1120NicoleBourgeois-WCHR-WCHRSpectacular-scaled-e1736531567563.jpg
END:VEVENT
BEGIN:VEVENT
DTSTART;TZID=America/Los_Angeles:20260206T180000
DTEND;TZID=America/Los_Angeles:20260206T190000
DTSTAMP:20260423T134518
CREATED:20250110T174103Z
LAST-MODIFIED:20251217T221100Z
UID:10000089-1770400800-1770404400@deserthorsepark.com
SUMMARY:$25\,000 DIHP Under Saddle Championship Sponsored by Frank & Eileen
DESCRIPTION:
URL:https://deserthorsepark.com/event/20000-dihp-under-saddle-championship/
LOCATION:Grand Prix Arena
CATEGORIES:DC,DC 5
ATTACH;FMTTYPE=image/jpeg:https://deserthorsepark.com/wp-content/uploads/2025/01/240216_MG_0042-scaled-e1736530848465.jpg
END:VEVENT
BEGIN:VEVENT
DTSTART;TZID=America/Los_Angeles:20260131T180000
DTEND;TZID=America/Los_Angeles:20260131T200000
DTSTAMP:20260423T134518
CREATED:20250108T182627Z
LAST-MODIFIED:20251212T204416Z
UID:10000074-1769882400-1769889600@deserthorsepark.com
SUMMARY:$340\,000 FEI 5* 1.60m World Cup Qualifier Sponsored By La Quinta Resort & Club
DESCRIPTION:
URL:https://deserthorsepark.com/event/340000-fei-5-1-60m-world-cup-qualifier-sponsored-by-la-quinta-resort-club/
LOCATION:Grand Prix Arena
CATEGORIES:DC,DC 4
ATTACH;FMTTYPE=image/jpeg:https://deserthorsepark.com/wp-content/uploads/2025/01/240316MG_0099-scaled-e1736360776465.jpg
END:VEVENT
BEGIN:VEVENT
DTSTART;TZID=America/Los_Angeles:20260131T130000
DTEND;TZID=America/Los_Angeles:20260131T150000
DTSTAMP:20260423T134518
CREATED:20251212T203956Z
LAST-MODIFIED:20251212T203956Z
UID:10000229-1769864400-1769871600@deserthorsepark.com
SUMMARY:$62\,500 FEI 2* Grand Prix 1.45m
DESCRIPTION:
URL:https://deserthorsepark.com/event/62500-fei-2-grand-prix-1-45m/
LOCATION:Grand Prix Arena
CATEGORIES:DC,DC 4
ATTACH;FMTTYPE=image/jpeg:https://deserthorsepark.com/wp-content/uploads/2025/12/CALYPSO-DES-MATIS_EDUARDO-PEREIRA-DE-MENEZES_DI2_2706-scaled-e1765571876579.jpg
END:VEVENT
BEGIN:VEVENT
DTSTART;TZID=America/Los_Angeles:20260124T180000
DTEND;TZID=America/Los_Angeles:20260124T200000
DTSTAMP:20260423T134518
CREATED:20251212T201431Z
LAST-MODIFIED:20251212T201431Z
UID:10000228-1769277600-1769284800@deserthorsepark.com
SUMMARY:$340\,000 FEI 5* Grand Prix 1.60m Sponsored by Brainjuice
DESCRIPTION:
URL:https://deserthorsepark.com/event/340000-fei-5-grand-prix-1-60m-sponsored-by-brainjuice/
LOCATION:Grand Prix Arena
CATEGORIES:DC,DC 3
ATTACH;FMTTYPE=image/jpeg:https://deserthorsepark.com/wp-content/uploads/2025/12/20250314_MGM_DC10_044-e1765570444153.jpg
END:VEVENT
BEGIN:VEVENT
DTSTART;TZID=America/Los_Angeles:20260124T130000
DTEND;TZID=America/Los_Angeles:20260124T150000
DTSTAMP:20260423T134518
CREATED:20251212T200644Z
LAST-MODIFIED:20251212T200644Z
UID:10000227-1769259600-1769266800@deserthorsepark.com
SUMMARY:$63\,000 FEI 2* Grand Prix 1.45m Sponsored by C3RV
DESCRIPTION:
URL:https://deserthorsepark.com/event/63000-fei-2-grand-prix-1-45m-sponsored-by-c3rv/
LOCATION:Grand Prix Arena
CATEGORIES:DC,DC 3
ATTACH;FMTTYPE=image/jpeg:https://deserthorsepark.com/wp-content/uploads/2025/12/Sat-Feb-17-3500Big-Shot-C3RV-Grand-Prix-Arena-Hunters-Jenny-Karazissis-e1765569989869.jpg
END:VEVENT
BEGIN:VEVENT
DTSTART;TZID=America/Los_Angeles:20260123T180000
DTEND;TZID=America/Los_Angeles:20260123T200000
DTSTAMP:20260423T134518
CREATED:20250108T170722Z
LAST-MODIFIED:20251217T231844Z
UID:10000067-1769191200-1769198400@deserthorsepark.com
SUMMARY:$10\,000 DIHP 10 & Under Futurity 1.35m
DESCRIPTION:
URL:https://deserthorsepark.com/event/10000-interactive-mortgage-1-35m-10-under-futurity/2026-01-23/
LOCATION:Grand Prix Arena
CATEGORIES:DC,DC 3
ATTACH;FMTTYPE=image/jpeg:https://deserthorsepark.com/wp-content/uploads/2025/01/JAMIE-SAILOR_ARAGUCCHI_DCM13127-scaled-e1765569651692.jpg
END:VEVENT
BEGIN:VEVENT
DTSTART;TZID=America/Los_Angeles:20260117T173000
DTEND;TZID=America/Los_Angeles:20260117T193000
DTSTAMP:20260423T134518
CREATED:20241223T171905Z
LAST-MODIFIED:20251212T195609Z
UID:10000061-1768671000-1768678200@deserthorsepark.com
SUMMARY:$75\,000 Grand Prix Sponsored by Kubota
DESCRIPTION:
URL:https://deserthorsepark.com/event/75000-grand-prix-sponsored-by-go-rentals/
LOCATION:Grand Prix Arena
CATEGORIES:DC,DC 2
ATTACH;FMTTYPE=image/jpeg:https://deserthorsepark.com/wp-content/uploads/2024/12/Karrie-Rufer-Kubota-Stern-Dei-Folletti-2-e1734971834535.jpg
END:VEVENT
BEGIN:VEVENT
DTSTART;TZID=America/Los_Angeles:20260110T173000
DTEND;TZID=America/Los_Angeles:20260110T193000
DTSTAMP:20260423T134518
CREATED:20241223T163725Z
LAST-MODIFIED:20251212T190745Z
UID:10000056-1768066200-1768073400@deserthorsepark.com
SUMMARY:$25\,000 Grand Prix Sponsored By IDA Barnwalkers
DESCRIPTION:
URL:https://deserthorsepark.com/event/25000-grand-prix-sponsored-by-kubota/
LOCATION:Grand Prix Arena
CATEGORIES:DC,DC 1
ATTACH;FMTTYPE=image/jpeg:https://deserthorsepark.com/wp-content/uploads/2024/12/Wed-Jan-10-5475Gamble-IDA-Development-James-Chawke-e1765566448480.jpg
END:VEVENT
BEGIN:VEVENT
DTSTART;TZID=America/Los_Angeles:20251206T180000
DTEND;TZID=America/Los_Angeles:20251206T200000
DTSTAMP:20260423T134518
CREATED:20240930T191141Z
LAST-MODIFIED:20251001T152806Z
UID:10000031-1765044000-1765051200@deserthorsepark.com
SUMMARY:$750\,000 Coachella Cup FEI 5* Grand Prix Sponsored By Morrow-Meadows Corporation
DESCRIPTION:
URL:https://deserthorsepark.com/event/1000000-coachella-cup-fei-5-grand-prix-sponsored-by-brown-advisory/
LOCATION:Grand Prix Arena
CATEGORIES:DH,DH1
ATTACH;FMTTYPE=image/jpeg:https://deserthorsepark.com/wp-content/uploads/2024/09/Sat-Dec-2-2434Coachella-Cup-Karl-Cook-e1727723486107.jpg
END:VEVENT
BEGIN:VEVENT
DTSTART;TZID=America/Los_Angeles:20251205T183000
DTEND;TZID=America/Los_Angeles:20251205T203000
DTSTAMP:20260423T134518
CREATED:20240930T191951Z
LAST-MODIFIED:20251001T150105Z
UID:10000032-1764959400-1764966600@deserthorsepark.com
SUMMARY:$200\,000 Major League Show Jumping 5* Team Competition Sponsored by Cabana Coast
DESCRIPTION:
URL:https://deserthorsepark.com/event/200000-major-league-show-jumping-5-team-competition-sponsored-by-premier-equestrian/
LOCATION:Grand Prix Arena
CATEGORIES:DH,DH1
ATTACH;FMTTYPE=image/jpeg:https://deserthorsepark.com/wp-content/uploads/2024/09/Fri-Dec-1-1325Amanda-Derbyshire-Aston-Martin-Major-League-Otto-BH-e1727723978185.jpg
END:VEVENT
BEGIN:VEVENT
DTSTART;TZID=America/Los_Angeles:20251115T164500
DTEND;TZID=America/Los_Angeles:20251115T203000
DTSTAMP:20260423T134518
CREATED:20251002T151740Z
LAST-MODIFIED:20251002T151740Z
UID:10000218-1763225100-1763238600@deserthorsepark.com
SUMMARY:US Equestrian Open of Dressage Final
DESCRIPTION:
URL:https://deserthorsepark.com/event/us-equestrian-open-of-dressage-final/
LOCATION:Grand Prix Arena
CATEGORIES:Dressage 1
ATTACH;FMTTYPE=image/jpeg:https://deserthorsepark.com/wp-content/uploads/2025/10/Shannon-Peters-and-Disco-Inferno-by-RandolphPR-2-scaled-e1759418252762.jpg
END:VEVENT
BEGIN:VEVENT
DTSTART;TZID=America/Los_Angeles:20251114T164500
DTEND;TZID=America/Los_Angeles:20251114T203000
DTSTAMP:20260423T134518
CREATED:20251002T152542Z
LAST-MODIFIED:20251002T152542Z
UID:10000219-1763138700-1763152200@deserthorsepark.com
SUMMARY:US Equestrian Open of Dressage Qualifier
DESCRIPTION:
URL:https://deserthorsepark.com/event/us-equestrian-open-of-dressage-qualifier/
LOCATION:Grand Prix Arena
CATEGORIES:Dressage 1
ATTACH;FMTTYPE=image/jpeg:https://deserthorsepark.com/wp-content/uploads/2025/10/Shannon-Peters-and-Disco-Inferno-by-RandolphPR-2-scaled-e1759418252762.jpg
END:VEVENT
BEGIN:VEVENT
DTSTART;TZID=America/Los_Angeles:20251108T173000
DTEND;TZID=America/Los_Angeles:20251108T190000
DTSTAMP:20260423T134518
CREATED:20240912T180640Z
LAST-MODIFIED:20250919T154956Z
UID:10000010-1762623000-1762628400@deserthorsepark.com
SUMMARY:$100\,000 Grand Prix Sponsored by Fobi
DESCRIPTION:
URL:https://deserthorsepark.com/event/100000-grand-prix-sponsored-by-ida-development/
LOCATION:Grand Prix Arena
CATEGORIES:NSS,NSS 2
ATTACH;FMTTYPE=image/jpeg:https://deserthorsepark.com/wp-content/uploads/2024/09/20250208_MGM_DC5_114-e1758296982844.jpg
ORGANIZER;CN="Desert Horse Park":MAILTO:events@deserthorsepark.com
END:VEVENT
BEGIN:VEVENT
DTSTART;TZID=America/Los_Angeles:20251101T173000
DTEND;TZID=America/Los_Angeles:20251101T193000
DTSTAMP:20260423T134518
CREATED:20240912T191737Z
LAST-MODIFIED:20250919T154645Z
UID:10000012-1762018200-1762025400@deserthorsepark.com
SUMMARY:$100\,000 Grand Prix Sponsored by FarmVet
DESCRIPTION:
URL:https://deserthorsepark.com/event/100000-grand-prix-sponsored-by-farmvet/
LOCATION:Grand Prix Arena
CATEGORIES:NSS,NSS 1
ATTACH;FMTTYPE=image/jpeg:https://deserthorsepark.com/wp-content/uploads/2024/09/Thu-Nov-30-0111Conor-Swail-FarmVet.jpg
ORGANIZER;CN="Desert Horse Park":MAILTO:events@deserthorsepark.com
END:VEVENT
END:VCALENDAR