BEGIN:VCALENDAR
VERSION:2.0
PRODID:-//Desert International Horse Park - ECPv6.15.20//NONSGML v1.0//EN
CALSCALE:GREGORIAN
METHOD:PUBLISH
X-ORIGINAL-URL:https://deserthorsepark.com
X-WR-CALDESC:Events for Desert International Horse Park
REFRESH-INTERVAL;VALUE=DURATION:PT1H
X-Robots-Tag:noindex
X-PUBLISHED-TTL:PT1H
BEGIN:VTIMEZONE
TZID:America/Los_Angeles
BEGIN:DAYLIGHT
TZOFFSETFROM:-0800
TZOFFSETTO:-0700
TZNAME:PDT
DTSTART:20240310T100000
END:DAYLIGHT
BEGIN:STANDARD
TZOFFSETFROM:-0700
TZOFFSETTO:-0800
TZNAME:PST
DTSTART:20241103T090000
END:STANDARD
BEGIN:DAYLIGHT
TZOFFSETFROM:-0800
TZOFFSETTO:-0700
TZNAME:PDT
DTSTART:20250309T100000
END:DAYLIGHT
BEGIN:STANDARD
TZOFFSETFROM:-0700
TZOFFSETTO:-0800
TZNAME:PST
DTSTART:20251102T090000
END:STANDARD
BEGIN:DAYLIGHT
TZOFFSETFROM:-0800
TZOFFSETTO:-0700
TZNAME:PDT
DTSTART:20260308T100000
END:DAYLIGHT
BEGIN:STANDARD
TZOFFSETFROM:-0700
TZOFFSETTO:-0800
TZNAME:PST
DTSTART:20261101T090000
END:STANDARD
END:VTIMEZONE
BEGIN:VEVENT
DTSTART;TZID=America/Los_Angeles:20250215T150000
DTEND;TZID=America/Los_Angeles:20250215T170000
DTSTAMP:20260422T214528
CREATED:20250111T195137Z
LAST-MODIFIED:20250111T195420Z
UID:10000100-1739631600-1739638800@deserthorsepark.com
SUMMARY:Barnstyle Equitation Challenge
DESCRIPTION:
URL:https://deserthorsepark.com/event/barnstyle-equitation-challenge/
LOCATION:Grand Equitation Arena
CATEGORIES:DC,DC 6
ATTACH;FMTTYPE=image/jpeg:https://deserthorsepark.com/wp-content/uploads/2025/01/Sat-Feb-17-3220Barnstyle-Brooke-OMalley-Equitation-Ian-McFarlane-e1736625249485.jpg
END:VEVENT
END:VCALENDAR