BEGIN:VCALENDAR
VERSION:2.0
PRODID:-//Desert International Horse Park - ECPv6.15.20//NONSGML v1.0//EN
CALSCALE:GREGORIAN
METHOD:PUBLISH
X-WR-CALNAME:Desert International Horse Park
X-ORIGINAL-URL:https://deserthorsepark.com
X-WR-CALDESC:Events for Desert International Horse Park
REFRESH-INTERVAL;VALUE=DURATION:PT1H
X-Robots-Tag:noindex
X-PUBLISHED-TTL:PT1H
BEGIN:VTIMEZONE
TZID:America/Los_Angeles
BEGIN:DAYLIGHT
TZOFFSETFROM:-0800
TZOFFSETTO:-0700
TZNAME:PDT
DTSTART:20240310T100000
END:DAYLIGHT
BEGIN:STANDARD
TZOFFSETFROM:-0700
TZOFFSETTO:-0800
TZNAME:PST
DTSTART:20241103T090000
END:STANDARD
BEGIN:DAYLIGHT
TZOFFSETFROM:-0800
TZOFFSETTO:-0700
TZNAME:PDT
DTSTART:20250309T100000
END:DAYLIGHT
BEGIN:STANDARD
TZOFFSETFROM:-0700
TZOFFSETTO:-0800
TZNAME:PST
DTSTART:20251102T090000
END:STANDARD
BEGIN:DAYLIGHT
TZOFFSETFROM:-0800
TZOFFSETTO:-0700
TZNAME:PDT
DTSTART:20260308T100000
END:DAYLIGHT
BEGIN:STANDARD
TZOFFSETFROM:-0700
TZOFFSETTO:-0800
TZNAME:PST
DTSTART:20261101T090000
END:STANDARD
BEGIN:DAYLIGHT
TZOFFSETFROM:-0800
TZOFFSETTO:-0700
TZNAME:PDT
DTSTART:20270314T100000
END:DAYLIGHT
BEGIN:STANDARD
TZOFFSETFROM:-0700
TZOFFSETTO:-0800
TZNAME:PST
DTSTART:20271107T090000
END:STANDARD
END:VTIMEZONE
BEGIN:VEVENT
DTSTART;TZID=America/Los_Angeles:20260218T060000
DTEND;TZID=America/Los_Angeles:20260218T100000
DTSTAMP:20260422T122401
CREATED:20251219T185326Z
LAST-MODIFIED:20251219T185326Z
UID:10000236-1771394400-1771408800@deserthorsepark.com
SUMMARY:Grooms Coffee & Pastries with Kupi Shop Sponsored by Spotlight 29
DESCRIPTION:
URL:https://deserthorsepark.com/event/grooms-coffee-pastries-with-kupi-shop-sponsored-by-spotlight-29/
LOCATION:Back in the Barns
CATEGORIES:DC,DC 7
ATTACH;FMTTYPE=image/png:https://deserthorsepark.com/wp-content/uploads/2025/12/KUPI-Final-Logo-1-e1766170338829.png
END:VEVENT
BEGIN:VEVENT
DTSTART;VALUE=DATE:20260211
DTEND;VALUE=DATE:20260212
DTSTAMP:20260422T122401
CREATED:20250115T161041Z
LAST-MODIFIED:20260126T232247Z
UID:10000102-1770768000-1770854399@deserthorsepark.com
SUMMARY:Valentines Day Flower Orders
DESCRIPTION:
URL:https://deserthorsepark.com/event/valentines-day-flower-orders/
LOCATION:Back in the Barns
CATEGORIES:DC,DC 6
ATTACH;FMTTYPE=image/jpeg:https://deserthorsepark.com/wp-content/uploads/2025/01/Fri-Mar-8-6914Equestrian-Businesswomen-e1736966304731.jpg
END:VEVENT
BEGIN:VEVENT
DTSTART;TZID=America/Los_Angeles:20250307T150000
DTEND;TZID=America/Los_Angeles:20250307T160000
DTSTAMP:20260422T122401
CREATED:20250123T174307Z
LAST-MODIFIED:20250225T023442Z
UID:10000132-1741359600-1741363200@deserthorsepark.com
SUMMARY:DIHP Best Turned Out Barn Competition 2025
DESCRIPTION:
URL:https://deserthorsepark.com/event/dihp-best-turned-out-barn-competition-2025/
LOCATION:Back in the Barns
CATEGORIES:DC,DC 9
ATTACH;FMTTYPE=image/jpeg:https://deserthorsepark.com/wp-content/uploads/2025/01/Thu-Feb-8-9442Stable-Setup-Woodhill-Farm-e1737654162177.jpg
END:VEVENT
END:VCALENDAR